BEGIN:VCALENDAR
VERSION:2.0
PRODID:-//WP EVENT Manager Ical//NONSGML Events//EN
CALSCALE:GREGORIAN
BEGIN:VTIMEZONE
TZID:Asia/Kolkata
BEGIN:STANDARD
DTSTART:19700101T000000
TZOFFSETFROM:+0530
TZOFFSETTO:+0530
END:STANDARD
END:VTIMEZONE
BEGIN:VEVENT
UID:69e8cdb127b04@ticketjunkies.com
DTSTAMP:20260422T133129Z
DTSTART;TZID=Asia/Kolkata:20250830T200000
DTEND;TZID=Asia/Kolkata:20250831T020000
LOCATION:Online
SUMMARY:Bahamas Vs Jamaic Vs Haiti Sound Clash
DESCRIPTION:☆Nassau Get Ready☆&#8220;Bahamas 🇧🇸 vs. Jamaica 🇯🇲 vs. Haiti 🇭🇹 Soundclash.&#8221;Coming This Summer, August 30th, 2025☆The 9-time World Clash Champion 🏆 here in The Bahamas for the first time to represent Team Jamaica 🇯🇲.Venue: TBADate: August 30th, 2025Music By: King Studda N Mix-A-Lot, Sheldon Vibes, DJ Whoopa, Selector Marvelous, and Nassau Hottest DJs.Ticket Price:General Admission: $50 advance, more at the door.VIP: $80 advance, more at the door.Security: RBPFSkybox and Tables:826-3830
END:VEVENT
END:VCALENDAR