BEGIN:VCALENDAR
VERSION:2.0
PRODID:-//WP EVENT Manager Ical//NONSGML Events//EN
CALSCALE:GREGORIAN
BEGIN:VTIMEZONE
TZID:Asia/Kolkata
BEGIN:STANDARD
DTSTART:19700101T000000
TZOFFSETFROM:+0530
TZOFFSETTO:+0530
END:STANDARD
END:VTIMEZONE
BEGIN:VEVENT
UID:69e8cf3fc2f78@ticketjunkies.com
DTSTAMP:20260422T133807Z
DTSTART;TZID=Asia/Kolkata:20250529T200000
DTEND;TZID=Asia/Kolkata:20250530T020000
LOCATION:Liquor Well Nassau Bahamas
SUMMARY:Battle Of The Dj’s
DESCRIPTION:Liquor Well Present The Battle Of The Dj&#8217;s Rock Da Crowd
END:VEVENT
END:VCALENDAR