BEGIN:VCALENDAR
VERSION:2.0
PRODID:-//WP EVENT Manager Ical//NONSGML Events//EN
CALSCALE:GREGORIAN
BEGIN:VTIMEZONE
TZID:Asia/Kolkata
BEGIN:STANDARD
DTSTART:19700101T000000
TZOFFSETFROM:+0530
TZOFFSETTO:+0530
END:STANDARD
END:VTIMEZONE
BEGIN:VEVENT
UID:69e8d08829c41@ticketjunkies.com
DTSTAMP:20260422T134336Z
DTSTART;TZID=Asia/Kolkata:20250621T120000
DTEND;TZID=Asia/Kolkata:20250622T020000
LOCATION:Thomas A Robinson National Stadium, Bahamas Games Boulevard, Nassau, The Bahamas
SUMMARY:Family Fun Day Fair And Raffle
DESCRIPTION:THE MOST WORSHIPFUL PRINCE HALL GRAND LODGE COMMONWEALTH OF THE BAHAMAS TURKS &amp; CAICOS ISLANDS PHA PRESENTSFamily Fun Day Fair And RaffleFeaturing Live Performance By: GENO D SHINE 242 EBONY JULIEN BELIVE JONNY CAKE JAMMING RAHMING QPIDBACKED BY THE RBDF BANDPROCEEDS IN AID OF WILLIAM WATSON THOMPSON FOUNDATION SCHOLARSHIP FUNDADMISSION $10 ADULTS AND KIDS $ 5. ALSO CAN BE PURCHASED AT THE DOOR
END:VEVENT
END:VCALENDAR