BEGIN:VCALENDAR
VERSION:2.0
PRODID:-//WP EVENT Manager Ical//NONSGML Events//EN
CALSCALE:GREGORIAN
BEGIN:VTIMEZONE
TZID:Asia/Kolkata
BEGIN:STANDARD
DTSTART:19700101T000000
TZOFFSETFROM:+0530
TZOFFSETTO:+0530
END:STANDARD
END:VTIMEZONE
BEGIN:VEVENT
UID:69e8cd4fc189e@ticketjunkies.com
DTSTAMP:20260422T132951Z
DTSTART;TZID=Asia/Kolkata:20241130T200000
DTEND;TZID=Asia/Kolkata:20241201T010000
LOCATION:Fort Charlotte, Nassau, The Bahamas
SUMMARY:Illumination
DESCRIPTION:ELITE ENTERTAINMENT PRESENTS THE OFFICIAL ALL WHITE AFFAIR OF THE YEARILLUMINATIONA NIGHT OF DIAMONDS &amp; PEARLSSTRICTLY OLD SCHOOL AND RUBBA DUB VIBES!!!SAVE THE DATE!!DOORS OPEN AT 7:00 PM
END:VEVENT
END:VCALENDAR