BEGIN:VCALENDAR
VERSION:2.0
PRODID:-//WP EVENT Manager Ical//NONSGML Events//EN
CALSCALE:GREGORIAN
BEGIN:VTIMEZONE
TZID:Asia/Kolkata
BEGIN:STANDARD
DTSTART:19700101T000000
TZOFFSETFROM:+0530
TZOFFSETTO:+0530
END:STANDARD
END:VTIMEZONE
BEGIN:VEVENT
UID:69e8d0cb0d52c@ticketjunkies.com
DTSTAMP:20260422T134443Z
DTSTART;TZID=Asia/Kolkata:20250301T200000
DTEND;TZID=Asia/Kolkata:20250302T020000
LOCATION:Online
SUMMARY:Old School Dance Love Edition
DESCRIPTION:The South Beach Men&#8217;s Branch and Caucus presents: Ole School Dance&#8221;Love Edition&#8221;Hosted By Selector JimboMusic By: DJ Gummy, Slick Vic, DJ CameronVenue: PLP Headquarters Gambier House( Farrington Road)Date: Saturday March 1st 2024Ticket Price: $15 Advance more at the doorGates Open at 8pm.Security Strictly Enforced:
END:VEVENT
END:VCALENDAR