BEGIN:VCALENDAR
VERSION:2.0
PRODID:-//WP EVENT Manager Ical//NONSGML Events//EN
CALSCALE:GREGORIAN
BEGIN:VTIMEZONE
TZID:Asia/Kolkata
BEGIN:STANDARD
DTSTART:19700101T000000
TZOFFSETFROM:+0530
TZOFFSETTO:+0530
END:STANDARD
END:VTIMEZONE
BEGIN:VEVENT
UID:69e8d1e49cef8@ticketjunkies.com
DTSTAMP:20260422T134924Z
DTSTART;TZID=Asia/Kolkata:20241230T200000
DTEND;TZID=Asia/Kolkata:20241231T020000
LOCATION:The Farm, Faith Avenue, Nassau, The Bahamas
SUMMARY:Old School Rub A Dub Reggae Night
DESCRIPTION:*** NEW VENUE ALERT***The Ultimate Grown Folks Reggae Old School &#8220;Rub A Dub&#8221; Party.Sunday, December 22nd, 2024 and every Sunday presented by Illusions Promotions Records and The Smokers Lounge at Pulse Lounge(Formerly Hookah Lounge) open from 8 pm-2 amVenue: The Pulse Lounge(Formerly Hookah Lounge)Ticket: $15The kitchen will be open.
END:VEVENT
END:VCALENDAR