BEGIN:VCALENDAR
VERSION:2.0
PRODID:-//WP EVENT Manager Ical//NONSGML Events//EN
CALSCALE:GREGORIAN
BEGIN:VTIMEZONE
TZID:Asia/Kolkata
BEGIN:STANDARD
DTSTART:19700101T000000
TZOFFSETFROM:+0530
TZOFFSETTO:+0530
END:STANDARD
END:VTIMEZONE
BEGIN:VEVENT
UID:69e8b814e5a60@ticketjunkies.com
DTSTAMP:20260422T115916Z
DTSTART;TZID=Asia/Kolkata:20251230T200000
DTEND;TZID=Asia/Kolkata:20251231T020000
LOCATION:Online
SUMMARY:Reggae Night Dj Payne Birthday
DESCRIPTION:Get Ready For A Night Of Reggae Music From The Yesteryears To The Present, Featuring RoryStoneLove &amp; Friends
END:VEVENT
END:VCALENDAR